BEGIN:VCALENDAR
VERSION:2.0
PRODID:JMS Hockey
X-PUBLISHED-TTL:P1W
BEGIN:VEVENT
UID:69e7bf993f75d
DTSTART:20110930T024000Z
SEQUENCE:0
TRANSP:OPAQUE
DTEND:20110930T041000Z
URL:http://jmshockey.com/games/3066
LOCATION:St Thomas Ice Arena
SUMMARY:All level Game at St Thomas Ice Arena
CLASS:PUBLIC
DTSTAMP:20260421T131905Z
END:VEVENT
END:VCALENDAR