BEGIN:VCALENDAR
VERSION:2.0
PRODID:JMS Hockey
X-PUBLISHED-TTL:P1W
BEGIN:VEVENT
UID:69e79574cfb1f
DTSTART:20110920T003000Z
SEQUENCE:0
TRANSP:OPAQUE
DTEND:20110920T020000Z
URL:http://jmshockey.com/games/3064
LOCATION:Doug Woog Arena (Wakota)
SUMMARY:Novice Game at Doug Woog Arena (Wakota)
CLASS:PUBLIC
DTSTAMP:20260421T101916Z
END:VEVENT
END:VCALENDAR