BEGIN:VCALENDAR
VERSION:2.0
PRODID:JMS Hockey
X-PUBLISHED-TTL:P1W
BEGIN:VEVENT
UID:69e7ad9b47f3c
DTSTART:20110923T024000Z
SEQUENCE:0
TRANSP:OPAQUE
DTEND:20110923T041000Z
URL:http://jmshockey.com/games/3063
LOCATION:St Thomas Ice Arena
SUMMARY:All level Game at St Thomas Ice Arena
CLASS:PUBLIC
DTSTAMP:20260421T120219Z
END:VEVENT
END:VCALENDAR