BEGIN:VCALENDAR
VERSION:2.0
PRODID:JMS Hockey
X-PUBLISHED-TTL:P1W
BEGIN:VEVENT
UID:69e7a51b9ad1a
DTSTART:20110928T023000Z
SEQUENCE:0
TRANSP:OPAQUE
DTEND:20110928T040000Z
URL:http://jmshockey.com/games/3057
LOCATION:St Louis Park Rec Center
SUMMARY:Level 4 Game at St Louis Park Rec Center
CLASS:PUBLIC
DTSTAMP:20260421T112603Z
END:VEVENT
END:VCALENDAR