BEGIN:VCALENDAR
VERSION:2.0
PRODID:JMS Hockey
X-PUBLISHED-TTL:P1W
BEGIN:VEVENT
UID:69e7ddb422af2
DTSTART:20110924T014500Z
SEQUENCE:0
TRANSP:OPAQUE
DTEND:20110924T031500Z
URL:http://jmshockey.com/games/3050
LOCATION:Richfield Ice Arena
SUMMARY:Level 4 Game at Richfield Ice Arena
CLASS:PUBLIC
DTSTAMP:20260421T152732Z
END:VEVENT
END:VCALENDAR