BEGIN:VCALENDAR
VERSION:2.0
PRODID:JMS Hockey
X-PUBLISHED-TTL:P1W
BEGIN:VEVENT
UID:69e88be44771b
DTSTART:20090207T043000Z
SEQUENCE:0
TRANSP:OPAQUE
DTEND:20090207T060000Z
URL:http://jmshockey.com/games/305
LOCATION:Richfield Ice Arena
SUMMARY:Level 4 Game at Richfield Ice Arena
CLASS:PUBLIC
DTSTAMP:20260422T035044Z
END:VEVENT
END:VCALENDAR