BEGIN:VCALENDAR
VERSION:2.0
PRODID:JMS Hockey
X-PUBLISHED-TTL:P1W
BEGIN:VEVENT
UID:69e7c743a18f1
DTSTART:20110917T021500Z
SEQUENCE:0
TRANSP:OPAQUE
DTEND:20110917T034500Z
URL:http://jmshockey.com/games/3049
LOCATION:Richfield Ice Arena
SUMMARY:Level 4 Game at Richfield Ice Arena
CLASS:PUBLIC
DTSTAMP:20260421T135147Z
END:VEVENT
END:VCALENDAR