BEGIN:VCALENDAR
VERSION:2.0
PRODID:JMS Hockey
X-PUBLISHED-TTL:P1W
BEGIN:VEVENT
UID:69e7d4be4b2bb
DTSTART:20110917T015000Z
SEQUENCE:0
TRANSP:OPAQUE
DTEND:20110917T032000Z
URL:http://jmshockey.com/games/3046
LOCATION:Pleasant Arena
SUMMARY:Level 2 Game at Pleasant Arena
CLASS:PUBLIC
DTSTAMP:20260421T144918Z
END:VEVENT
END:VCALENDAR