BEGIN:VCALENDAR
VERSION:2.0
PRODID:JMS Hockey
X-PUBLISHED-TTL:P1W
BEGIN:VEVENT
UID:69e7ccb171f1c
DTSTART:20110913T013000Z
SEQUENCE:0
TRANSP:OPAQUE
DTEND:20110913T030000Z
URL:http://jmshockey.com/games/3031
LOCATION:Breck Anderson Arena
SUMMARY:Upper Level Game at Breck Anderson Arena
CLASS:PUBLIC
DTSTAMP:20260421T141457Z
END:VEVENT
END:VCALENDAR