BEGIN:VCALENDAR
VERSION:2.0
PRODID:JMS Hockey
X-PUBLISHED-TTL:P1W
BEGIN:VEVENT
UID:69e7f87f73aa5
DTSTART:20110917T003000Z
SEQUENCE:0
TRANSP:OPAQUE
DTEND:20110917T020000Z
URL:http://jmshockey.com/games/3024
LOCATION:Bloomington Ice Gardens
SUMMARY:Level 3 Game at Bloomington Ice Gardens
CLASS:PUBLIC
DTSTAMP:20260421T172151Z
END:VEVENT
END:VCALENDAR