BEGIN:VCALENDAR
VERSION:2.0
PRODID:JMS Hockey
X-PUBLISHED-TTL:P1W
BEGIN:VEVENT
UID:69e7d53ee4360
DTSTART:20110928T024500Z
SEQUENCE:0
TRANSP:OPAQUE
DTEND:20110928T041500Z
URL:http://jmshockey.com/games/3008
LOCATION:Northeast Arena
SUMMARY:Level 5 Game at Northeast Arena
CLASS:PUBLIC
DTSTAMP:20260421T145126Z
END:VEVENT
END:VCALENDAR