BEGIN:VCALENDAR
VERSION:2.0
PRODID:JMS Hockey
X-PUBLISHED-TTL:P1W
BEGIN:VEVENT
UID:69e7c8c3270f3
DTSTART:20090207T041500Z
SEQUENCE:0
TRANSP:OPAQUE
DTEND:20090207T054500Z
URL:http://jmshockey.com/games/299
LOCATION:Tartan Arena
SUMMARY:Level 2 Game at Tartan Arena
CLASS:PUBLIC
DTSTAMP:20260421T135811Z
END:VEVENT
END:VCALENDAR