BEGIN:VCALENDAR
VERSION:2.0
PRODID:JMS Hockey
X-PUBLISHED-TTL:P1W
BEGIN:VEVENT
UID:69e7c8c2abea9
DTSTART:20110927T024000Z
SEQUENCE:0
TRANSP:OPAQUE
DTEND:20110927T041000Z
URL:http://jmshockey.com/games/2979
LOCATION:St Thomas Ice Arena
SUMMARY:Upper Level Game at St Thomas Ice Arena
CLASS:PUBLIC
DTSTAMP:20260421T135810Z
END:VEVENT
END:VCALENDAR