BEGIN:VCALENDAR
VERSION:2.0
PRODID:JMS Hockey
X-PUBLISHED-TTL:P1W
BEGIN:VEVENT
UID:69e7adb39699c
DTSTART:20110726T020000Z
SEQUENCE:0
TRANSP:OPAQUE
DTEND:20110726T033000Z
URL:http://jmshockey.com/games/2949
LOCATION:Minnetonka Ice Arena
SUMMARY:Level 2 Game at Minnetonka Ice Arena
CLASS:PUBLIC
DTSTAMP:20260421T120243Z
END:VEVENT
END:VCALENDAR