BEGIN:VCALENDAR
VERSION:2.0
PRODID:JMS Hockey
X-PUBLISHED-TTL:P1W
BEGIN:VEVENT
UID:69e7cabe7e0ad
DTSTART:20110622T111500Z
SEQUENCE:0
TRANSP:OPAQUE
DTEND:20110622T121500Z
URL:http://jmshockey.com/games/2936
LOCATION:Breck Anderson Arena
SUMMARY:All level Game at Breck Anderson Arena
CLASS:PUBLIC
DTSTAMP:20260421T140638Z
END:VEVENT
END:VCALENDAR