BEGIN:VCALENDAR
VERSION:2.0
PRODID:JMS Hockey
X-PUBLISHED-TTL:P1W
BEGIN:VEVENT
UID:69e7ada5db2ab
DTSTART:20110719T020000Z
SEQUENCE:0
TRANSP:OPAQUE
DTEND:20110719T033000Z
URL:http://jmshockey.com/games/2930
LOCATION:Roseville Skating Center
SUMMARY:Level 3 Game at Roseville Skating Center
CLASS:PUBLIC
DTSTAMP:20260421T120229Z
END:VEVENT
END:VCALENDAR