BEGIN:VCALENDAR
VERSION:2.0
PRODID:JMS Hockey
X-PUBLISHED-TTL:P1W
BEGIN:VEVENT
UID:69e7b12f2ff8a
DTSTART:20110727T023000Z
SEQUENCE:0
TRANSP:OPAQUE
DTEND:20110727T040000Z
URL:http://jmshockey.com/games/2924
LOCATION:Doug Woog Arena (Wakota)
SUMMARY:Lower Level Game at Doug Woog Arena (Wakota)
CLASS:PUBLIC
DTSTAMP:20260421T121735Z
END:VEVENT
END:VCALENDAR