BEGIN:VCALENDAR
VERSION:2.0
PRODID:JMS Hockey
X-PUBLISHED-TTL:P1W
BEGIN:VEVENT
UID:69e7c34692103
DTSTART:20110720T013000Z
SEQUENCE:0
TRANSP:OPAQUE
DTEND:20110720T030000Z
URL:http://jmshockey.com/games/2913
LOCATION:Inver Grove Heights Community Center
SUMMARY:Upper Level Game at Inver Grove Heights Community Center
CLASS:PUBLIC
DTSTAMP:20260421T133446Z
END:VEVENT
END:VCALENDAR