BEGIN:VCALENDAR
VERSION:2.0
PRODID:JMS Hockey
X-PUBLISHED-TTL:P1W
BEGIN:VEVENT
UID:69e7cb2b1b6fb
DTSTART:20110611T010000Z
SEQUENCE:0
TRANSP:OPAQUE
DTEND:20110611T023000Z
URL:http://jmshockey.com/games/2893
LOCATION:Eden Prairie Comm Ctr
SUMMARY:All level Game at Eden Prairie Comm Ctr
CLASS:PUBLIC
DTSTAMP:20260421T140827Z
END:VEVENT
END:VCALENDAR