BEGIN:VCALENDAR
VERSION:2.0
PRODID:JMS Hockey
X-PUBLISHED-TTL:P1W
BEGIN:VEVENT
UID:69e7d4795ee73
DTSTART:20090203T041500Z
SEQUENCE:0
TRANSP:OPAQUE
DTEND:20090203T054500Z
URL:http://jmshockey.com/games/289
LOCATION:Tartan Arena
SUMMARY:Level 3 Game at Tartan Arena
CLASS:PUBLIC
DTSTAMP:20260421T144809Z
END:VEVENT
END:VCALENDAR