BEGIN:VCALENDAR
VERSION:2.0
PRODID:JMS Hockey
X-PUBLISHED-TTL:P1W
BEGIN:VEVENT
UID:69e7b9de555f1
DTSTART:20110528T004500Z
SEQUENCE:0
TRANSP:OPAQUE
DTEND:20110528T021500Z
URL:http://jmshockey.com/games/2889
LOCATION:Breck Anderson Arena
SUMMARY:All level Game at Breck Anderson Arena
CLASS:PUBLIC
DTSTAMP:20260421T125438Z
END:VEVENT
END:VCALENDAR