BEGIN:VCALENDAR
VERSION:2.0
PRODID:JMS Hockey
X-PUBLISHED-TTL:P1W
BEGIN:VEVENT
UID:69e7efcd076b8
DTSTART:20110714T023000Z
SEQUENCE:0
TRANSP:OPAQUE
DTEND:20110714T040000Z
URL:http://jmshockey.com/games/2860
LOCATION:Parade Ice Gardens
SUMMARY:Upper Level Game at Parade Ice Gardens
CLASS:PUBLIC
DTSTAMP:20260421T164445Z
END:VEVENT
END:VCALENDAR