BEGIN:VCALENDAR
VERSION:2.0
PRODID:JMS Hockey
X-PUBLISHED-TTL:P1W
BEGIN:VEVENT
UID:69e7cb3635bc5
DTSTART:20110707T023000Z
SEQUENCE:0
TRANSP:OPAQUE
DTEND:20110707T040000Z
URL:http://jmshockey.com/games/2859
LOCATION:Parade Ice Gardens
SUMMARY:Upper Level Game at Parade Ice Gardens
CLASS:PUBLIC
DTSTAMP:20260421T140838Z
END:VEVENT
END:VCALENDAR