BEGIN:VCALENDAR
VERSION:2.0
PRODID:JMS Hockey
X-PUBLISHED-TTL:P1W
BEGIN:VEVENT
UID:69e7cadf6822d
DTSTART:20110609T003000Z
SEQUENCE:0
TRANSP:OPAQUE
DTEND:20110609T020000Z
URL:http://jmshockey.com/games/2855
LOCATION:Parade Ice Gardens
SUMMARY:Level 3 Game at Parade Ice Gardens
CLASS:PUBLIC
DTSTAMP:20260421T140711Z
END:VEVENT
END:VCALENDAR