BEGIN:VCALENDAR
VERSION:2.0
PRODID:JMS Hockey
X-PUBLISHED-TTL:P1W
BEGIN:VEVENT
UID:69e7f8c38d055
DTSTART:20110602T003000Z
SEQUENCE:0
TRANSP:OPAQUE
DTEND:20110602T020000Z
URL:http://jmshockey.com/games/2854
LOCATION:Parade Ice Gardens
SUMMARY:Level 2 Game at Parade Ice Gardens
CLASS:PUBLIC
DTSTAMP:20260421T172259Z
END:VEVENT
END:VCALENDAR