BEGIN:VCALENDAR
VERSION:2.0
PRODID:JMS Hockey
X-PUBLISHED-TTL:P1W
BEGIN:VEVENT
UID:69e7b9b9232a4
DTSTART:20110512T001500Z
SEQUENCE:0
TRANSP:OPAQUE
DTEND:20110512T014500Z
URL:http://jmshockey.com/games/2852
LOCATION:Augsburg
SUMMARY:Level 3 Game at Augsburg
CLASS:PUBLIC
DTSTAMP:20260421T125401Z
END:VEVENT
END:VCALENDAR