BEGIN:VCALENDAR
VERSION:2.0
PRODID:JMS Hockey
X-PUBLISHED-TTL:P1W
BEGIN:VEVENT
UID:69e7f87f5ccef
DTSTART:20110820T013000Z
SEQUENCE:0
TRANSP:OPAQUE
DTEND:20110820T030000Z
URL:http://jmshockey.com/games/2843
LOCATION:Roseville Skating Center
SUMMARY:Level 2 Game at Roseville Skating Center
CLASS:PUBLIC
DTSTAMP:20260421T172151Z
END:VEVENT
END:VCALENDAR