BEGIN:VCALENDAR
VERSION:2.0
PRODID:JMS Hockey
X-PUBLISHED-TTL:P1W
BEGIN:VEVENT
UID:69e7ce8f69066
DTSTART:20110928T020000Z
SEQUENCE:0
TRANSP:OPAQUE
DTEND:20110928T033000Z
URL:http://jmshockey.com/games/2841
LOCATION:Fogerty Icehouse
SUMMARY:Level 3 Game at Fogerty Icehouse
CLASS:PUBLIC
DTSTAMP:20260421T142255Z
END:VEVENT
END:VCALENDAR