BEGIN:VCALENDAR
VERSION:2.0
PRODID:JMS Hockey
X-PUBLISHED-TTL:P1W
BEGIN:VEVENT
UID:69e7d08c904a8
DTSTART:20110910T020000Z
SEQUENCE:0
TRANSP:OPAQUE
DTEND:20110910T033000Z
URL:http://jmshockey.com/games/2836
LOCATION:Fogerty Icehouse
SUMMARY:All level Game at Fogerty Icehouse
CLASS:PUBLIC
DTSTAMP:20260421T143124Z
END:VEVENT
END:VCALENDAR