BEGIN:VCALENDAR
VERSION:2.0
PRODID:JMS Hockey
X-PUBLISHED-TTL:P1W
BEGIN:VEVENT
UID:69e7cb32778ee
DTSTART:20110720T020000Z
SEQUENCE:0
TRANSP:OPAQUE
DTEND:20110720T033000Z
URL:http://jmshockey.com/games/2824
LOCATION:Fogerty Icehouse
SUMMARY:Level 3 Game at Fogerty Icehouse
CLASS:PUBLIC
DTSTAMP:20260421T140834Z
END:VEVENT
END:VCALENDAR