BEGIN:VCALENDAR
VERSION:2.0
PRODID:JMS Hockey
X-PUBLISHED-TTL:P1W
BEGIN:VEVENT
UID:69e7f83ad23d3
DTSTART:20090128T034500Z
SEQUENCE:0
TRANSP:OPAQUE
DTEND:20090128T051500Z
URL:http://jmshockey.com/games/282
LOCATION:Bloomington Ice Gardens
SUMMARY:Level 3 Game at Bloomington Ice Gardens
CLASS:PUBLIC
DTSTAMP:20260421T172042Z
END:VEVENT
END:VCALENDAR