BEGIN:VCALENDAR
VERSION:2.0
PRODID:JMS Hockey
X-PUBLISHED-TTL:P1W
BEGIN:VEVENT
UID:69e7c2b40412d
DTSTART:20080725T020000Z
SEQUENCE:0
TRANSP:OPAQUE
DTEND:20080725T033000Z
URL:http://jmshockey.com/games/28
LOCATION:Pleasant Arena
SUMMARY:Level 3 Game at Pleasant Arena
CLASS:PUBLIC
DTSTAMP:20260421T133220Z
END:VEVENT
END:VCALENDAR