BEGIN:VCALENDAR
VERSION:2.0
PRODID:JMS Hockey
X-PUBLISHED-TTL:P1W
BEGIN:VEVENT
UID:69e7adc053974
DTSTART:20110702T011500Z
SEQUENCE:0
TRANSP:OPAQUE
DTEND:20110702T024500Z
URL:http://jmshockey.com/games/2782
LOCATION:Bloomington Ice Gardens
SUMMARY:Level 2 Game at Bloomington Ice Gardens
CLASS:PUBLIC
DTSTAMP:20260421T120256Z
END:VEVENT
END:VCALENDAR