BEGIN:VCALENDAR
VERSION:2.0
PRODID:JMS Hockey
X-PUBLISHED-TTL:P1W
BEGIN:VEVENT
UID:69e7ba1a6d733
DTSTART:20110625T011500Z
SEQUENCE:0
TRANSP:OPAQUE
DTEND:20110625T024500Z
URL:http://jmshockey.com/games/2778
LOCATION:Bloomington Ice Gardens
SUMMARY:Level 2 Game at Bloomington Ice Gardens
CLASS:PUBLIC
DTSTAMP:20260421T125538Z
END:VEVENT
END:VCALENDAR