BEGIN:VCALENDAR
VERSION:2.0
PRODID:JMS Hockey
X-PUBLISHED-TTL:P1W
BEGIN:VEVENT
UID:69e7c3a91dee2
DTSTART:20110618T003000Z
SEQUENCE:0
TRANSP:OPAQUE
DTEND:20110618T020000Z
URL:http://jmshockey.com/games/2774
LOCATION:Bloomington Ice Gardens
SUMMARY:Level 2 Game at Bloomington Ice Gardens
CLASS:PUBLIC
DTSTAMP:20260421T133625Z
END:VEVENT
END:VCALENDAR