BEGIN:VCALENDAR
VERSION:2.0
PRODID:JMS Hockey
X-PUBLISHED-TTL:P1W
BEGIN:VEVENT
UID:69e7a7a04fe5b
DTSTART:20110525T111500Z
SEQUENCE:0
TRANSP:OPAQUE
DTEND:20110525T121500Z
URL:http://jmshockey.com/games/2766
LOCATION:Breck Anderson Arena
SUMMARY:All level Game at Breck Anderson Arena
CLASS:PUBLIC
DTSTAMP:20260421T113648Z
END:VEVENT
END:VCALENDAR