BEGIN:VCALENDAR
VERSION:2.0
PRODID:JMS Hockey
X-PUBLISHED-TTL:P1W
BEGIN:VEVENT
UID:69e7a779d9e39
DTSTART:20110817T013000Z
SEQUENCE:0
TRANSP:OPAQUE
DTEND:20110817T030000Z
URL:http://jmshockey.com/games/2755
LOCATION:St Louis Park Rec Center
SUMMARY:Level 4 Game at St Louis Park Rec Center
CLASS:PUBLIC
DTSTAMP:20260421T113609Z
END:VEVENT
END:VCALENDAR