BEGIN:VCALENDAR
VERSION:2.0
PRODID:JMS Hockey
X-PUBLISHED-TTL:P1W
BEGIN:VEVENT
UID:69e7e6d66825b
DTSTART:20110813T021500Z
SEQUENCE:0
TRANSP:OPAQUE
DTEND:20110813T034500Z
URL:http://jmshockey.com/games/2754
LOCATION:St Louis Park Rec Center
SUMMARY:Level 3 Game at St Louis Park Rec Center
CLASS:PUBLIC
DTSTAMP:20260421T160630Z
END:VEVENT
END:VCALENDAR