BEGIN:VCALENDAR
VERSION:2.0
PRODID:JMS Hockey
X-PUBLISHED-TTL:P1W
BEGIN:VEVENT
UID:69e7cb40df13f
DTSTART:20110720T013000Z
SEQUENCE:0
TRANSP:OPAQUE
DTEND:20110720T030000Z
URL:http://jmshockey.com/games/2742
LOCATION:St Louis Park Rec Center
SUMMARY:Level 4 Game at St Louis Park Rec Center
CLASS:PUBLIC
DTSTAMP:20260421T140848Z
END:VEVENT
END:VCALENDAR