BEGIN:VCALENDAR
VERSION:2.0
PRODID:JMS Hockey
X-PUBLISHED-TTL:P1W
BEGIN:VEVENT
UID:69e7b5e8ece72
DTSTART:20110716T003000Z
SEQUENCE:0
TRANSP:OPAQUE
DTEND:20110716T020000Z
URL:http://jmshockey.com/games/2740
LOCATION:St Louis Park Rec Center
SUMMARY:Level 2 Game at St Louis Park Rec Center
CLASS:PUBLIC
DTSTAMP:20260421T123744Z
END:VEVENT
END:VCALENDAR