BEGIN:VCALENDAR
VERSION:2.0
PRODID:JMS Hockey
X-PUBLISHED-TTL:P1W
BEGIN:VEVENT
UID:69e7cb91f0b92
DTSTART:20110709T021500Z
SEQUENCE:0
TRANSP:OPAQUE
DTEND:20110709T034500Z
URL:http://jmshockey.com/games/2738
LOCATION:St Louis Park Rec Center
SUMMARY:Level 4 Game at St Louis Park Rec Center
CLASS:PUBLIC
DTSTAMP:20260421T141009Z
END:VEVENT
END:VCALENDAR