BEGIN:VCALENDAR
VERSION:2.0
PRODID:JMS Hockey
X-PUBLISHED-TTL:P1W
BEGIN:VEVENT
UID:69e7b59904ff7
DTSTART:20110709T003000Z
SEQUENCE:0
TRANSP:OPAQUE
DTEND:20110709T020000Z
URL:http://jmshockey.com/games/2737
LOCATION:St Louis Park Rec Center
SUMMARY:Level 1 Game at St Louis Park Rec Center
CLASS:PUBLIC
DTSTAMP:20260421T123625Z
END:VEVENT
END:VCALENDAR