BEGIN:VCALENDAR
VERSION:2.0
PRODID:JMS Hockey
X-PUBLISHED-TTL:P1W
BEGIN:VEVENT
UID:69e7e14c2a8e3
DTSTART:20110430T014500Z
SEQUENCE:0
TRANSP:OPAQUE
DTEND:20110430T031500Z
URL:http://jmshockey.com/games/2713
LOCATION:Augsburg
SUMMARY:Level 4 Game at Augsburg
CLASS:PUBLIC
DTSTAMP:20260421T154252Z
END:VEVENT
END:VCALENDAR