BEGIN:VCALENDAR
VERSION:2.0
PRODID:JMS Hockey
X-PUBLISHED-TTL:P1W
BEGIN:VEVENT
UID:69e7d652ed880
DTSTART:20110516T000000Z
SEQUENCE:0
TRANSP:OPAQUE
DTEND:20110516T013000Z
URL:http://jmshockey.com/games/2710
LOCATION:Augsburg
SUMMARY:All level Game at Augsburg
CLASS:PUBLIC
DTSTAMP:20260421T145602Z
END:VEVENT
END:VCALENDAR