BEGIN:VCALENDAR
VERSION:2.0
PRODID:JMS Hockey
X-PUBLISHED-TTL:P1W
BEGIN:VEVENT
UID:69e7cb3e10c9d
DTSTART:20110430T030000Z
SEQUENCE:0
TRANSP:OPAQUE
DTEND:20110430T043000Z
URL:http://jmshockey.com/games/2698
LOCATION:Eden Prairie Comm Ctr
SUMMARY:All level Game at Eden Prairie Comm Ctr
CLASS:PUBLIC
DTSTAMP:20260421T140846Z
END:VEVENT
END:VCALENDAR