BEGIN:VCALENDAR
VERSION:2.0
PRODID:JMS Hockey
X-PUBLISHED-TTL:P1W
BEGIN:VEVENT
UID:69e7b9bbecdd2
DTSTART:20110423T014500Z
SEQUENCE:0
TRANSP:OPAQUE
DTEND:20110423T031500Z
URL:http://jmshockey.com/games/2697
LOCATION:Eden Prairie Comm Ctr
SUMMARY:All level Game at Eden Prairie Comm Ctr
CLASS:PUBLIC
DTSTAMP:20260421T125403Z
END:VEVENT
END:VCALENDAR