BEGIN:VCALENDAR
VERSION:2.0
PRODID:JMS Hockey
X-PUBLISHED-TTL:P1W
BEGIN:VEVENT
UID:69e7d49a08bec
DTSTART:20110416T020000Z
SEQUENCE:0
TRANSP:OPAQUE
DTEND:20110416T033000Z
URL:http://jmshockey.com/games/2696
LOCATION:Eden Prairie Comm Ctr
SUMMARY:All level Game at Eden Prairie Comm Ctr
CLASS:PUBLIC
DTSTAMP:20260421T144842Z
END:VEVENT
END:VCALENDAR