BEGIN:VCALENDAR
VERSION:2.0
PRODID:JMS Hockey
X-PUBLISHED-TTL:P1W
BEGIN:VEVENT
UID:69e82d3dcecad
DTSTART:20110505T021500Z
SEQUENCE:0
TRANSP:OPAQUE
DTEND:20110505T034500Z
URL:http://jmshockey.com/games/2684
LOCATION:New Hope Ice Arena
SUMMARY:Upper Level Game at New Hope Ice Arena
CLASS:PUBLIC
DTSTAMP:20260421T210653Z
END:VEVENT
END:VCALENDAR