BEGIN:VCALENDAR
VERSION:2.0
PRODID:JMS Hockey
X-PUBLISHED-TTL:P1W
BEGIN:VEVENT
UID:69e7c6f81e78c
DTSTART:20110310T030000Z
SEQUENCE:0
TRANSP:OPAQUE
DTEND:20110310T043000Z
URL:http://jmshockey.com/games/2681
LOCATION:St. Paul Academy Drake
SUMMARY:Level 3 Game at St. Paul Academy Drake
CLASS:PUBLIC
DTSTAMP:20260421T135032Z
END:VEVENT
END:VCALENDAR