BEGIN:VCALENDAR
VERSION:2.0
PRODID:JMS Hockey
X-PUBLISHED-TTL:P1W
BEGIN:VEVENT
UID:69e7b10267c3e
DTSTART:20110729T024500Z
SEQUENCE:0
TRANSP:OPAQUE
DTEND:20110729T041500Z
URL:http://jmshockey.com/games/2677
LOCATION:St Louis Park Rec Center
SUMMARY:All level Game at St Louis Park Rec Center
CLASS:PUBLIC
DTSTAMP:20260421T121650Z
END:VEVENT
END:VCALENDAR